BEGIN:VCALENDAR
VERSION:2.0
PRODID:-//Tukios.com/
BEGIN:VEVENT
UID:8c4f9477-7a67-45f9-aff2-75d99bff22a0@www.griffinmortuaryservices.com
DTSTAMP:20260421T223245Z
DTSTART:20260425T160000Z
DTEND:20260425T170000Z
SUMMARY:Celebration of Life
DESCRIPTION:
URL:https://www.griffinmortuaryservices.com/obituaries/robert-l-tillmon
LOCATION: 1704 E 24th St  Lubbock TX 79404
GEO:33.5724466;-101.8180389
END:VEVENT
END:VCALENDAR