BEGIN:VCALENDAR
VERSION:2.0
PRODID:-//Tukios.com/
BEGIN:VEVENT
UID:3f74facd-3894-4b66-b917-062c09501bde@www.griffinmortuaryservices.com
DTSTAMP:20260424T010603Z
DTSTART:20260425
SUMMARY:Interment
DESCRIPTION:
URL:https://www.griffinmortuaryservices.com/obituaries/mary-burse-2026
LOCATION: 1760 County Road 430 79316  Brownfield TX 
GEO:33.1952043;-102.2983242
END:VEVENT
END:VCALENDAR