BEGIN:VCALENDAR
VERSION:2.0
PRODID:-//Tukios.com/
BEGIN:VEVENT
UID:ea18af63-f5c0-4898-abb9-c37150191ed6@www.griffinmortuaryservices.com
DTSTAMP:20260424T010812Z
DTSTART:20260425T180000Z
DTEND:20260425T190000Z
SUMMARY:Celebration of Life
DESCRIPTION:
URL:https://www.griffinmortuaryservices.com/obituaries/mary-burse-2026
LOCATION:Brownfield Church of Christ 502 Lubbock Rd  Brownfield TX 79316
GEO:33.1836174;-102.2736595
END:VEVENT
END:VCALENDAR