BEGIN:VCALENDAR
VERSION:2.0
PRODID:-//Tukios.com/
BEGIN:VEVENT
UID:969ef6d8-0847-49dd-8f34-485136016331@www.griffinmortuaryservices.com
DTSTAMP:20260424T010438Z
DTSTART:20260424T210000Z
DTEND:20260424T230000Z
SUMMARY:Visitation
DESCRIPTION:
URL:https://www.griffinmortuaryservices.com/obituaries/mary-burse-2026
LOCATION: 1715 E Broadway  Lubbock TX 79403
GEO:33.5855592;-101.8172198
END:VEVENT
END:VCALENDAR