BEGIN:VCALENDAR
VERSION:2.0
PRODID:-//Tukios.com/
BEGIN:VEVENT
UID:7d8a1e6b-b5b2-4611-a991-bd8bfd2df896@www.griffinmortuaryservices.com
DTSTAMP:20260419T200404Z
DTSTART:20260421
SUMMARY:Interment
DESCRIPTION:
URL:https://www.griffinmortuaryservices.com/obituaries/joe-roberts
LOCATION: 1100 N. 20th St.  Slaton TX 79364
GEO:33.4485871;-101.6574049
END:VEVENT
END:VCALENDAR