BEGIN:VCALENDAR
VERSION:2.0
PRODID:-//Tukios.com/
BEGIN:VEVENT
UID:4290115b-4774-4e53-b7f0-7f2e91e2ccec@www.griffinmortuaryservices.com
DTSTAMP:20260419T200404Z
DTSTART:20260421T160000Z
DTEND:20260421T170000Z
SUMMARY:Celebration of Life
DESCRIPTION:
URL:https://www.griffinmortuaryservices.com/obituaries/joe-roberts
LOCATION: 887 S. Flint St.  Slaton  
GEO:33.4314364;-101.6250375
END:VEVENT
END:VCALENDAR