BEGIN:VCALENDAR
VERSION:2.0
PRODID:-//Tukios.com/
BEGIN:VEVENT
UID:0fc089d9-7b04-4120-9b3c-31ab70eb2e6b@www.griffinmortuaryservices.com
DTSTAMP:20260419T200135Z
DTSTART:20260420T220000Z
DTEND:20260421T000000Z
SUMMARY:Visitation
DESCRIPTION:
URL:https://www.griffinmortuaryservices.com/obituaries/joe-roberts
LOCATION: 1715 E Broadway  Lubbock TX 79403
GEO:33.5855592;-101.8172198
END:VEVENT
END:VCALENDAR