BEGIN:VCALENDAR
VERSION:2.0
PRODID:-//Tukios.com/
BEGIN:VEVENT
UID:06e5d673-63f5-4bd7-8985-1ed545ff0b5b@www.griffinmortuaryservices.com
DTSTAMP:20260424T010807Z
DTSTART:20260428
SUMMARY:Interment
DESCRIPTION:
URL:https://www.griffinmortuaryservices.com/obituaries/gay-nell-anderson
LOCATION: 2011 East 31st Street  Lubbock TX 79404
GEO:33.5663424;-101.8147764
END:VEVENT
END:VCALENDAR