BEGIN:VCALENDAR
VERSION:2.0
PRODID:-//Tukios.com/
BEGIN:VEVENT
UID:f7ae5e0c-51ee-4885-aa86-d26c4599756d@www.griffinmortuaryservices.com
DTSTAMP:20260424T010444Z
DTSTART:20260428T160000Z
DTEND:20260428T170000Z
SUMMARY:Celebration of Life
DESCRIPTION:
URL:https://www.griffinmortuaryservices.com/obituaries/gay-nell-anderson
LOCATION: 1715 E Broadway  Lubbock TX 79403
GEO:33.5855592;-101.8172198
END:VEVENT
END:VCALENDAR